Workbook

Sheet Лист1
A3: Приложение 2
A5: Планируемые закупки товаров, работ, услуг на 2026 год и плановый период (2027-2028 гг.) у субъектов малого и среднего предпринимательства, в соответствии с Федеральным законом от 18.07.2011 № 223-ФЗ «О закупках товаров, работ, услуг отдельными видами юридических лиц»
A7: № | B7: Наименование объекта закупок | C7: Номер плана закупок | D7: Планируемая дата публикации | E7: Способ закупки | F7: Начальная (максимальная) цена договора (тыс.руб.) | G7: Наименование заказчика
A8: п/п
A9: 1 | B9: 2 | C9: 3 | D9: 4 | E9: 6 | F9: 7 | G9: 8
A10: 1 | B10: =[1]Лист1!B39 -> Поставка продуктов питания (мясо) | C10: =[1]Лист1!C39 -> 34 | D10: август 2026 | E10: =[1]Лист1!E39 -> Единственный поставщик | F10: 306 | G10: =[1]Лист1!G39 -> МАДОУ детский сад "Малышок
A11: 2 | B11: =[1]Лист1!B40 -> Поставка продуктов питания (овощи и фрукты свежие) | C11: =[1]Лист1!C40 -> 39 | D11: август 2026 | E11: =[1]Лист1!E40 -> Запрос котировок | F11: 280.1 | G11: =[1]Лист1!G40 -> МАДОУ детский сад "Малышок
A12: 3 | B12: =[1]Лист1!B41 -> Поставка продуктов питания (мясная продукция) | C12: =[1]Лист1!C41 -> 47 | D12: октябрь 2026 | E12: =[1]Лист1!E41 -> Запрос котировок | F12: 110 | G12: =[1]Лист1!G41 -> МАДОУ детский сад "Малышок
A13: 4 | B13: =[1]Лист1!B42 -> Поставка продуктов питания (рыбная продукция) | C13: =[1]Лист1!C42 -> 48 | D13: октябрь 2026 | E13: =[1]Лист1!E42 -> Запрос котировок | F13: 101 | G13: =[1]Лист1!G42 -> МАДОУ детский сад "Малышок
A14: 5 | B14: =[1]Лист1!B43 -> Поставка продуктов питания (молочная продукция) | C14: =[1]Лист1!C43 -> 49 | D14: октябрь 2026 | E14: =[1]Лист1!E43 -> Запрос котировок | F14: 420 | G14: =[1]Лист1!G43 -> МАДОУ детский сад "Малышок
A15: 6 | B15: =[1]Лист1!B44 -> Поставка продуктов питания (прочие) | C15: =[1]Лист1!C44 -> 50 | D15: октябрь 2026 | E15: =[1]Лист1!E44 -> Запрос котировок | F15: 400.37 | G15: =[1]Лист1!G44 -> МАДОУ детский сад "Малышок
A16: 7 | B16: =[1]Лист1!B45 -> Поставка продуктов питания (яйцо куриное) | C16: =[1]Лист1!C45 -> 43 | D16: ноябрь 2026 | E16: =[1]Лист1!E45 -> Запрос котировок | F16: 15 | G16: =[1]Лист1!G45 -> МАДОУ детский сад "Малышок
A17: 8 | B17: =[1]Лист1!B46 -> Поставка продуктов питания (молоко) | C17: =[1]Лист1!C46 -> 45 | D17: ноябрь 2026 | E17: =[1]Лист1!E46 -> Запрос котировок | F17: 180 | G17: =[1]Лист1!G46 -> МАДОУ детский сад "Малышок
A18: 9 | B18: =[1]Лист1!B47 -> Поставка продуктов питания (мясо) | C18: =[1]Лист1!C47 -> 46 | D18: ноябрь 2026 | E18: =[1]Лист1!E47 -> Запрос котировок | F18: 260 | G18: =[1]Лист1!G47 -> МАДОУ детский сад "Малышок
A19: 10 | B19: Поставка демонстрационного и лабораторного оборудования по биологии | C19: 20 | D19: июль 2026 | E19: Ценовой запрос в электронной форме, участниками которого могут быть только СМСП | F19: 238.52 | G19: МАОУ "Няксимвольская СОШ"
A20: 11 | B20: Организация горячего питания | C20: 2250836616 | D20: июль 2026 | E20: Запрос цен | F20: 7500 | G20: Маоу Игримская СОШ имени Героя Советского Союза Собянина Г.Е.
A21: 12 | B21: Поставка оборудования для музея | C21: 2250847864 | D21: ноябрь 2026 | E21: запрос котировок | F21: 208 | G21: МАОУ "Приполярная СОШ"
A22: 13 | B22: =[2]Лист1!B11 -> Медицинские услуги по проведению ежегодных медицинских осмотров работников с вредными условиями труда | C22: б/н | D22: январь 2027 | E22: =[2]Лист1!E11 -> запрос котировок | F22: 340 | G22: =[2]Лист1!G11 -> МАОУ "Приполярная СОШ"
A23: 14 | B23: =[2]Лист1!B12 -> Медицинские услуги по проведению ежегодных медицинских осмотров работников с вредными условиями труда | C23: б/н | D23: январь 2028 | E23: =[2]Лист1!E12 -> запрос котировок | F23: 340 | G23: =[2]Лист1!G12 -> МАОУ "Приполярная СОШ"
A24: 15 | B24: =[2]Лист1!B18 -> На поставку продуктов питания для 1-4 классов МАОУ «Приполярная средняя общеобразовательная школа» | C24: б/н | D24: январь 2027 | E24: =[2]Лист1!E18 -> запрос котировок | F24: 500.6 | G24: =[2]Лист1!G18 -> МАОУ "Приполярная СОШ"
A25: 16 | B25: =[2]Лист1!B19 -> На поставку продуктов питания для 5-11 классов МАОУ «Приполярная средняя общеобразовательная школа» | C25: б/н | D25: январь 2027 | E25: =[2]Лист1!E19 -> запрос котировок | F25: 497.2 | G25: =[2]Лист1!G19 -> МАОУ "Приполярная СОШ"
A26: 17 | B26: =[2]Лист1!B20 -> На поставку продуктов питания для льготной категории 1-11 классов МАОУ «Приполярная средняя общеобразовательная школа» | C26: б/н | D26: январь 2027 | E26: =[2]Лист1!E20 -> запрос котировок | F26: 626.06 | G26: =[2]Лист1!G20 -> МАОУ "Приполярная СОШ"
A27: 18 | B27: =[2]Лист1!B21 -> На поставку продуктов питания для 1-4 классов МАОУ «Приполярная средняя общеобразовательная школа» | C27: б/н | D27: сентябрь 2027 | E27: =[2]Лист1!E21 -> запрос котировок | F27: 500.6 | G27: =[2]Лист1!G21 -> МАОУ "Приполярная СОШ"
A28: 19 | B28: =[2]Лист1!B22 -> На поставку продуктов питания для 5-11 классов МАОУ «Приполярная средняя общеобразовательная школа» | C28: б/н | D28: сентябрь 2027 | E28: =[2]Лист1!E22 -> запрос котировок | F28: 497.2 | G28: =[2]Лист1!G22 -> МАОУ "Приполярная СОШ"
A29: 20 | B29: =[2]Лист1!B23 -> На поставку продуктов питания для льготной категории 1-11 классов МАОУ «Приполярная средняя общеобразовательная школа» | C29: б/н | D29: сентябрь 2027 | E29: =[2]Лист1!E23 -> запрос котировок | F29: 626.06 | G29: =[2]Лист1!G23 -> МАОУ "Приполярная СОШ"
A30: 21 | B30: Поставка мебели (парты, стулья, столы, шкаф для демонстрационного материала | C30: б/н | D30: январь 2027 | E30: запрос котировок | F30: 192 | G30: МАОУ "Приполярная СОШ"
A31: 22 | B31: Поставка мебели (парты, стулья, столы, шкаф для демонстрационного материала | C31: б/н | D31: январь 2028 | E31: запрос котировок | F31: 198 | G31: МАОУ "Приполярная СОШ"
A32: 23 | B32: Поставка оргтехники | C32: б/н | D32: январь 2027 | E32: запрос котировок | F32: 225 | G32: МАОУ "Приполярная СОШ"
A33: 24 | B33: Поставка оргтехники | C33: б/н | D33: январь 2028 | E33: запрос котировок | F33: 230 | G33: МАОУ "Приполярная СОШ"
A34: 25 | B34: Поставка канцелярии | C34: б/н | D34: январь 2027 | E34: =[2]Лист1!E32 -> запрос котировок | F34: 180 | G34: =[2]Лист1!G32 -> МАОУ "Приполярная СОШ"
A35: 26 | B35: Поставка канцелярии | C35: б/н | D35: январь 2028 | E35: =[2]Лист1!E33 -> запрос котировок | F35: 120 | G35: =[2]Лист1!G33 -> МАОУ "Приполярная СОШ"
A36: 27 | B36: Поставка оборудования для учебных кабинетов (Физика, ИЗО, Музыка) | C36: 47 | D36: август 2026 | E36: Электронный Аукцион | F36: 441.36 | G36: МАОУ "Светловская СОШ имени Солёнова Б.А."
A37: 28 | B37: Поставка хозяйственных товаров | C37: 61 | D37: август 2026 | E37: Электронный Аукцион | F37: 90 | G37: МАОУ "Светловская СОШ имени Солёнова Б.А."
A38: 29 | B38: Мебель, инвентарь, оборудование для кабинета "Точка Роста" | C38: 50 | D38: август 2026 | E38: Электронный Аукцион | F38: 1500 | G38: МАОУ "Светловская СОШ имени Солёнова Б.А."
A39: 30 | B39: =[3]Лист1!B10 -> Продукты питания для организации питания воспитанников Д/С | C39: =[3]Лист1!C10 -> 2250850435 | D39: июль 2026 | E39: =[3]Лист1!E10 -> Единственный поставщик | F39: 96.4 | G39: =[3]Лист1!G10 -> МАОУ "Хулимсунтская СОШ с кадетскими и мариинскими классами"
A40: 31 | B40: =[3]Лист1!B11 -> Продукты питания для организации питания воспитанников Д/С | C40: =[3]Лист1!C11 -> 2250850435 | D40: июль 2026 | E40: =[3]Лист1!E11 -> Единственный поставщик | F40: 99.9 | G40: =[3]Лист1!G11 -> МАОУ "Хулимсунтская СОШ с кадетскими и мариинскими классами"
A41: 32 | B41: =[3]Лист1!B12 -> Продукты питания для организации питания воспитанников Д/С | C41: =[3]Лист1!C12 -> 2250850435 | D41: август 2026 | E41: =[3]Лист1!E12 -> Единственный поставщик | F41: 98.5 | G41: =[3]Лист1!G12 -> МАОУ "Хулимсунтская СОШ с кадетскими и мариинскими классами"
A42: 33 | B42: =[3]Лист1!B13 -> Продукты питания для организации питания воспитанников Д/С | C42: =[3]Лист1!C13 -> 2250850435 | D42: август 2026 | E42: =[3]Лист1!E13 -> Единственный поставщик | F42: 99.9 | G42: =[3]Лист1!G13 -> МАОУ "Хулимсунтская СОШ с кадетскими и мариинскими классами"
A43: 34 | B43: =[3]Лист1!B14 -> Продукты питания для организации питания воспитанников Д/С | C43: =[3]Лист1!C14 -> 2250850435 | D43: сентябрь 2026 | E43: =[3]Лист1!E14 -> Единственный поставщик | F43: 99.7 | G43: =[3]Лист1!G14 -> МАОУ "Хулимсунтская СОШ с кадетскими и мариинскими классами"
A44: 35 | B44: =[3]Лист1!B15 -> Продукты питания для воспитанников Д/С | C44: =[3]Лист1!C15 -> 2250850435 | D44: сентябрь 2026 | E44: =[3]Лист1!E15 -> Единственный поставщик | F44: 98.6 | G44: =[3]Лист1!G15 -> МАОУ "Хулимсунтская СОШ с кадетскими и мариинскими классами"
...
